BEGIN:VCALENDAR
VERSION:2.0
PRODID:icalendar-ruby
CALSCALE:GREGORIAN
METHOD:PUBLISH
BEGIN:VEVENT
DTSTAMP:20260421T112958Z
UID:374-222140@northoak.net
DTSTART:20260425T150000Z
DTEND:20260425T160000Z
CLASS:PUBLIC
CREATED:20260331T105229
DESCRIPTION:
LAST-MODIFIED:20260331T105229
LOCATION:NOCC
SUMMARY:Table of Grace
URL;VALUE=URI:https://www.northoak.net/events/table-of-grace--374/2026-04-2
 5
END:VEVENT
END:VCALENDAR
