BEGIN:VCALENDAR
VERSION:2.0
PRODID:icalendar-ruby
CALSCALE:GREGORIAN
METHOD:PUBLISH
BEGIN:VEVENT
DTSTAMP:20260421T100430Z
UID:366-197637@northoak.net
DTSTART:20260422T201500Z
DTEND:20260422T220000Z
CLASS:PUBLIC
CREATED:20260305T102012
DESCRIPTION:
LAST-MODIFIED:20260305T102012
LOCATION:NOCC
SUMMARY:HFL End of Year Party
URL;VALUE=URI:https://www.northoak.net/events/hfl-end-of-year-party/2026-04
 -22
END:VEVENT
END:VCALENDAR
